BEGIN:VCALENDAR
VERSION:2.0
PRODID:-//Capricornia Chamber of Commerce - ECPv5.4.0//NONSGML v1.0//EN
CALSCALE:GREGORIAN
METHOD:PUBLISH
X-WR-CALNAME:Capricornia Chamber of Commerce
X-ORIGINAL-URL:https://www.capricorniachamber.com.au
X-WR-CALDESC:Events for Capricornia Chamber of Commerce
BEGIN:VTIMEZONE
TZID:Australia/Brisbane
BEGIN:STANDARD
TZOFFSETFROM:+1000
TZOFFSETTO:+1000
TZNAME:AEST
DTSTART:20200101T000000
END:STANDARD
END:VTIMEZONE
BEGIN:VEVENT
DTSTART;TZID=Australia/Brisbane:20201013T163000
DTEND;TZID=Australia/Brisbane:20201013T190000
DTSTAMP:20210301T135555
CREATED:20200928T070842Z
LAST-MODIFIED:20201011T004917Z
UID:2230-1602606600-1602615600@www.capricorniachamber.com.au
SUMMARY:October General Meeting
DESCRIPTION:October is Safety Month! \n\n\n\nSimon Lever will be speaking about mental health after COVID\, business and WHS
URL:https://www.capricorniachamber.com.au/event/october-general-meeting/
LOCATION:CocoBrew Rockhampton\, 114 William Street\, Rockhampton\, Queensland\, 4700\, Australia
ATTACH;FMTTYPE=image/jpeg:https://www.capricorniachamber.com.au/wp-content/uploads/2020/09/safety-helmet-workplace-scaled.jpg
END:VEVENT
BEGIN:VEVENT
DTSTART;TZID=Australia/Brisbane:20201028T063000
DTEND;TZID=Australia/Brisbane:20201028T073000
DTSTAMP:20210301T135555
CREATED:20200930T083633Z
LAST-MODIFIED:20200930T083637Z
UID:2280-1603866600-1603870200@www.capricorniachamber.com.au
SUMMARY:CBD Coffee
DESCRIPTION:October’s CBD Coffee is on at 45 East – pop in for a coffee and a catch up!
URL:https://www.capricorniachamber.com.au/event/cbd-coffee-2/
LOCATION:45 East\, 45 East Street\, Rockhampton\, Queensland\, 4700\, Australia
ATTACH;FMTTYPE=image/jpeg:https://www.capricorniachamber.com.au/wp-content/uploads/2019/11/coffee-scaled.jpg
END:VEVENT
END:VCALENDAR